BEGIN:VCALENDAR
VERSION:2.0
PRODID:-//Plone.org//NONSGML plone.app.event//EN
X-WR-TIMEZONE:Europe/Madrid
BEGIN:VEVENT
SUMMARY:Amnistia: Parlem-ne
DTSTART;TZID=Europe/Madrid;VALUE=DATE-TIME:20240224T190000
DTEND;TZID=Europe/Madrid;VALUE=DATE-TIME:20240224T200000
DTSTAMP;VALUE=DATE-TIME:20260421T132321Z
UID:f8da804fdd37debd01929a5bda28cfc7
CREATED;VALUE=DATE-TIME:20240224T000000Z
CATEGORIES:Conferència
LOCATION:Sala d'actes Rectoria Vella - Parc de la Rectoria Vella, s/n
ORGANIZER:Esquerra Republicana Sant Celoni i la Batllòria
DESCRIPTION:L'amnistia és una eina de Justícia
URL:https://www.santceloni.cat/document.php?id=31762
END:VEVENT
END:VCALENDAR