BEGIN:VCALENDAR
VERSION:2.0
PRODID:-//Plone.org//NONSGML plone.app.event//EN
X-WR-TIMEZONE:Europe/Madrid
BEGIN:VEVENT
SUMMARY:Inauguració de l'exposició Dibuixos i Relats
DTSTART;TZID=Europe/Madrid;VALUE=DATE-TIME:20240223T190000
DTEND;TZID=Europe/Madrid;VALUE=DATE-TIME:20240223T200000
DTSTAMP;VALUE=DATE-TIME:20260422T113424Z
UID:e9dd1e18788b8d8c733952ccab75d2af
CREATED;VALUE=DATE-TIME:20240223T000000Z
CATEGORIES:Exposició
LOCATION:Can Ramis - Pl. de la Vila, 25
URL:https://www.santceloni.cat/document.php?id=31763
END:VEVENT
END:VCALENDAR