BEGIN:VCALENDAR
VERSION:2.0
PRODID:-//Plone.org//NONSGML plone.app.event//EN
X-WR-TIMEZONE:Europe/Madrid
BEGIN:VEVENT
SUMMARY:Fora Estocs
DTSTART;TZID=Europe/Madrid;VALUE=DATE-TIME:20240302T100000
DTEND;TZID=Europe/Madrid;VALUE=DATE-TIME:20240302T110000
DTSTAMP;VALUE=DATE-TIME:20260421T185507Z
UID:ea3fce927ee3a1a81d5509d276776944
CREATED;VALUE=DATE-TIME:20240302T000000Z
LOCATION:Carrer Anselm Clavé
ORGANIZER:Associació de veïns i comerciants Anselm Clavé Centre
COMMENT:Durada: Tot el dia
DESCRIPTION:Liquidació de temporada
URL:https://www.santceloni.cat/document.php?id=31803
END:VEVENT
END:VCALENDAR