BEGIN:VCALENDAR
VERSION:2.0
PRODID:-//Plone.org//NONSGML plone.app.event//EN
X-WR-TIMEZONE:Europe/Madrid
BEGIN:VEVENT
SUMMARY:Visita guiada de l'exposició JORCA. Ceràmica entre dos. 45 anys
DTSTART;TZID=Europe/Madrid;VALUE=DATE-TIME:20240414T180000
DTEND;TZID=Europe/Madrid;VALUE=DATE-TIME:20240414T190000
DTSTAMP;VALUE=DATE-TIME:20260426T045003Z
UID:558aae181bcfbfb559062470c91f0ffe
CREATED;VALUE=DATE-TIME:20240414T000000Z
CATEGORIES:Exposició
LOCATION:Rectoria Vella - Parc de la Rectoria Vella, s/n
COMMENT:Preu: Gratuït
DESCRIPTION:Jordi Auleda i Carme Llavina
URL:https://www.santceloni.cat/document.php?id=31846
END:VEVENT
END:VCALENDAR