BEGIN:VCALENDAR
VERSION:2.0
PRODID:-//Plone.org//NONSGML plone.app.event//EN
X-WR-TIMEZONE:Europe/Madrid
BEGIN:VEVENT
SUMMARY:Assessorament laboral gratuït
DTSTART;TZID=Europe/Madrid;VALUE=DATE-TIME:20240403T190000
DTEND;TZID=Europe/Madrid;VALUE=DATE-TIME:20240403T200000
DTSTAMP;VALUE=DATE-TIME:20260426T040547Z
UID:9b2a49702543bd5aaf9b446bfe8cb2ad
CREATED;VALUE=DATE-TIME:20240403T000000Z
LOCATION:La Clau - c. Alguersuari, 16
ORGANIZER:CNT Vallès Oriental
COMMENT:Preu: Gratuït
Durada: Durada: 1 hora, cada primer dimecres de mes
DESCRIPTION:Cada primer dimecres de mes, al Casal Popular La Clau
URL:https://www.santceloni.cat/document.php?id=31855
END:VEVENT
END:VCALENDAR