BEGIN:VCALENDAR
VERSION:2.0
PRODID:-//Plone.org//NONSGML plone.app.event//EN
X-WR-TIMEZONE:Europe/Madrid
BEGIN:VEVENT
SUMMARY:Llista cívica per a la independència
DTSTART;TZID=Europe/Madrid;VALUE=DATE-TIME:20240308T190000
DTEND;TZID=Europe/Madrid;VALUE=DATE-TIME:20240308T200000
DTSTAMP;VALUE=DATE-TIME:20260421T010659Z
UID:50d9c76e2e88fc5df7269d0a4060644f
CREATED;VALUE=DATE-TIME:20240308T000000Z
CATEGORIES:Conferència
LOCATION:Rectoria Vella - Parc de la Rectoria Vella, s/n
ORGANIZER:ANC - ASSAMBLEA NACIONAL CATALANA
COMMENT:Durada: 1 hora
DESCRIPTION:Xerrada informativa
URL:https://www.santceloni.cat/document.php?id=31860
END:VEVENT
END:VCALENDAR