BEGIN:VCALENDAR
VERSION:2.0
PRODID:-//Plone.org//NONSGML plone.app.event//EN
X-WR-TIMEZONE:Europe/Madrid
BEGIN:VEVENT
SUMMARY:El carnaval dels animals
DTSTART;TZID=Europe/Madrid;VALUE=DATE-TIME:20240314T203000
DTEND;TZID=Europe/Madrid;VALUE=DATE-TIME:20240314T213000
DTSTAMP;VALUE=DATE-TIME:20260426T051705Z
UID:d99e39bdc6d0e0618cf3b47020e93b99
CREATED;VALUE=DATE-TIME:20240314T000000Z
CATEGORIES:Educació,Música
LOCATION:Centre Municipal d'Expressió - Sant Josep, 18
ORGANIZER:Escola Municipal de Música i Teatre
COMMENT:Preu: Gratuït
Durada: 30 minuts
DESCRIPTION:Dijous 14 de març, a les 20.30h
URL:https://www.santceloni.cat/document.php?id=31878
END:VEVENT
END:VCALENDAR