BEGIN:VCALENDAR
VERSION:2.0
PRODID:-//Plone.org//NONSGML plone.app.event//EN
X-WR-TIMEZONE:Europe/Madrid
BEGIN:VEVENT
SUMMARY:Matí de contes
DTSTART;TZID=Europe/Madrid;VALUE=DATE-TIME:20240413T103000
DTEND;TZID=Europe/Madrid;VALUE=DATE-TIME:20240413T113000
DTSTAMP;VALUE=DATE-TIME:20260422T140547Z
UID:ba44429b64c5d471ebd920a16c65d749
CREATED;VALUE=DATE-TIME:20240413T000000Z
CATEGORIES:Biblioteca Infantils,Literatura
LOCATION:Biblioteca l'Escorxador - Pg. de la Rectoria Vella, 10
ORGANIZER:Alternativa
COMMENT:Preu: Gratuït
DESCRIPTION:De 10:30h a 13h
URL:https://www.santceloni.cat/document.php?id=31973
END:VEVENT
END:VCALENDAR