BEGIN:VCALENDAR
VERSION:2.0
PRODID:-//Plone.org//NONSGML plone.app.event//EN
X-WR-TIMEZONE:Europe/Madrid
BEGIN:VEVENT
SUMMARY:Xerrada informativa: Hàbits digitals segurs, a càrrec de Mossos d'Esquadra
DTSTART;TZID=Europe/Madrid;VALUE=DATE-TIME:20240514T110000
DTEND;TZID=Europe/Madrid;VALUE=DATE-TIME:20240514T120000
DTSTAMP;VALUE=DATE-TIME:20260423T100050Z
UID:04a62ad98ff03c55c39937518de0bde7
CREATED;VALUE=DATE-TIME:20240514T000000Z
CATEGORIES:Biblioteca Conferència
LOCATION:Biblioteca l'Escorxador - Pg. de la Rectoria Vella, 10
ORGANIZER:Biblioteca l'Escorxador
COMMENT:Preu: Gratuït
DESCRIPTION:Per a gent gran
URL:https://www.santceloni.cat/document.php?id=32019
END:VEVENT
END:VCALENDAR