BEGIN:VCALENDAR
VERSION:2.0
PRODID:-//Plone.org//NONSGML plone.app.event//EN
X-WR-TIMEZONE:Europe/Madrid
BEGIN:VEVENT
SUMMARY:Aprenent el Montseny. Coneixement i defensa del patrimoni montsenyenc
DTSTART;TZID=Europe/Madrid;VALUE=DATE-TIME:20240525T093000
DTEND;TZID=Europe/Madrid;VALUE=DATE-TIME:20240525T103000
DTSTAMP;VALUE=DATE-TIME:20260426T052524Z
UID:cfc04325f37e51f014f8eafc56c30ac0
CREATED;VALUE=DATE-TIME:20240525T000000Z
CATEGORIES:Cursos,Natura,Visita guiada
LOCATION:Sala Bernat Martorell de Can Ramis - Pl. de la Vila, 25
ORGANIZER:Coordinadora per a la Salvaguarda del Montseny
COMMENT:Preu: Gratuït
Durada: 4 hores
DESCRIPTION:Setmana de la Natura 2024
URL:https://www.santceloni.cat/document.php?id=32083
END:VEVENT
END:VCALENDAR