BEGIN:VCALENDAR
VERSION:2.0
PRODID:-//Plone.org//NONSGML plone.app.event//EN
X-WR-TIMEZONE:Europe/Madrid
BEGIN:VEVENT
SUMMARY:Espectacle de dansa al carrer
DTSTART;TZID=Europe/Madrid;VALUE=DATE-TIME:20240504T103000
DTEND;TZID=Europe/Madrid;VALUE=DATE-TIME:20240504T113000
DTSTAMP;VALUE=DATE-TIME:20260422T202224Z
UID:b1906c89d97728b44ed4ebce6428a766
CREATED;VALUE=DATE-TIME:20240504T000000Z
CATEGORIES:Dansa,Mostra
LOCATION:Plaça de l'Església - Plaça de l'Església
COMMENT:Durada: de 10.30 a 13.30 h
DESCRIPTION:Amb la col·laboració de les escoles de dansa
URL:https://www.santceloni.cat/document.php?id=32163
END:VEVENT
END:VCALENDAR