BEGIN:VCALENDAR
VERSION:2.0
PRODID:-//Plone.org//NONSGML plone.app.event//EN
X-WR-TIMEZONE:Europe/Madrid
BEGIN:VEVENT
SUMMARY:el CineFòrum de laFilmo
DTSTART;TZID=Europe/Madrid;VALUE=DATE-TIME:20240519T180000
DTEND;TZID=Europe/Madrid;VALUE=DATE-TIME:20240519T190000
DTSTAMP;VALUE=DATE-TIME:20260426T052509Z
UID:3a73137addb96c020cf427598b9816c8
CREATED;VALUE=DATE-TIME:20240519T000000Z
CATEGORIES:Cinema,Conferència,Cultura,Educació,Natura
LOCATION:Teatre Ateneu, Sala Lluís Giró - Germà Emilià, s/n
ORGANIZER:laFilmo del Baix Montseny
COMMENT:Preu: Entrada lliure
Durada: 2,5 hores aprox
DESCRIPTION:Minicicle: XOC de cultures + Setmana de la Natura
URL:https://www.santceloni.cat/document.php?id=32191
END:VEVENT
END:VCALENDAR