BEGIN:VCALENDAR
VERSION:2.0
PRODID:-//Plone.org//NONSGML plone.app.event//EN
X-WR-TIMEZONE:Europe/Madrid
BEGIN:VEVENT
SUMMARY:Tast de vins escumosos a càrrec d'El Bocamoll a la Biblioteca
DTSTART;TZID=Europe/Madrid;VALUE=DATE-TIME:20240710T183000
DTEND;TZID=Europe/Madrid;VALUE=DATE-TIME:20240710T193000
DTSTAMP;VALUE=DATE-TIME:20260422T101945Z
UID:b18e77ece8b336cbccebb266c7640b30
CREATED;VALUE=DATE-TIME:20240710T000000Z
CATEGORIES:Biblioteca Conferència,Cultura
LOCATION:Biblioteca l'Escorxador - Pg. de la Rectoria Vella, 10
ORGANIZER:Biblioteca l'Escorxador
DESCRIPTION:Xerrada + tast de vi
URL:https://www.santceloni.cat/document.php?id=32299
END:VEVENT
END:VCALENDAR