BEGIN:VCALENDAR
VERSION:2.0
PRODID:-//Plone.org//NONSGML plone.app.event//EN
X-WR-TIMEZONE:Europe/Madrid
BEGIN:VEVENT
SUMMARY:Portes Obertes als entrenaments del Futbol Femení del Futbol Club Sant Celoni
DTSTART;TZID=Europe/Madrid;VALUE=DATE-TIME:20240618T183000
DTEND;TZID=Europe/Madrid;VALUE=DATE-TIME:20240618T193000
DTSTAMP;VALUE=DATE-TIME:20260422T190431Z
UID:9bed4ea73d13d3786194e388eab5b2b2
CREATED;VALUE=DATE-TIME:20240618T000000Z
CATEGORIES:Esports
LOCATION:Camp Municipal d'esports - Pg. dels Esports, s/n
ORGANIZER:Futbol Club Sant Celoni
COMMENT:Preu: Gratuït
Durada: de 18.30 a 19.45 h
DESCRIPTION:Entrenaments futbol femení
URL:https://www.santceloni.cat/document.php?id=32366
END:VEVENT
END:VCALENDAR