BEGIN:VCALENDAR
VERSION:2.0
PRODID:-//Plone.org//NONSGML plone.app.event//EN
X-WR-TIMEZONE:Europe/Madrid
BEGIN:VEVENT
SUMMARY:Festa Major d'estiu de la Batllòria
DTSTART;TZID=Europe/Madrid;VALUE=DATE-TIME:20240825T000000
DTEND;TZID=Europe/Madrid;VALUE=DATE-TIME:20240825T010000
DTSTAMP;VALUE=DATE-TIME:20260425T053734Z
UID:dd1ed8923a883a5bdad669ba4d2c5c24
CREATED;VALUE=DATE-TIME:20240825T000000Z
CATEGORIES:Festa Major
COMMENT:Durada: Tot el dia
URL:https://www.santceloni.cat/document.php?id=32515
END:VEVENT
END:VCALENDAR