BEGIN:VCALENDAR
VERSION:2.0
PRODID:-//Plone.org//NONSGML plone.app.event//EN
X-WR-TIMEZONE:Europe/Madrid
BEGIN:VEVENT
SUMMARY:Teatre: El despertar de la primavera, amb Rebrot Teatre
DTSTART;TZID=Europe/Madrid;VALUE=DATE-TIME:20250124T210000
DTEND;TZID=Europe/Madrid;VALUE=DATE-TIME:20250124T220000
DTSTAMP;VALUE=DATE-TIME:20260422T140354Z
UID:564a1414294eecf039b2dddca3f356bd
CREATED;VALUE=DATE-TIME:20250124T000000Z
CATEGORIES:Teatre
LOCATION:Teatre Ateneu, Sala Gran - Germà Emilià, s/n
ORGANIZER:Rebrot
COMMENT:Preu: 15 
Durada: 2 hores i 30 minuts (amb entreacte de 15 minuts)
DESCRIPTION:Programació Teatre Ateneu
URL:https://www.santceloni.cat/document.php?id=32723
END:VEVENT
END:VCALENDAR