BEGIN:VCALENDAR
VERSION:2.0
PRODID:-//Plone.org//NONSGML plone.app.event//EN
X-WR-TIMEZONE:Europe/Madrid
BEGIN:VEVENT
SUMMARY:46a Marxa pel Montseny del CESC
DTSTART;TZID=Europe/Madrid;VALUE=DATE-TIME:20241027T070000
DTEND;TZID=Europe/Madrid;VALUE=DATE-TIME:20241027T080000
DTSTAMP;VALUE=DATE-TIME:20260422T175201Z
UID:2e0a730d40733667c25163566ccd99df
CREATED;VALUE=DATE-TIME:20241027T000000Z
CATEGORIES:Esports
LOCATION:Pàrking del pavelló - c. Esteve Cardelús - Av. Catalunya
ORGANIZER:Centre excursionista de Sant Celoni
COMMENT:Preu: Inscripcions anticipades: 12 &euro; - Inscripcions el mateix dia: 15 &euro;
Durada: de les 7 a 14 h
DESCRIPTION:Amb Marxa i Marxeta
URL:https://www.santceloni.cat/document.php?id=32758
END:VEVENT
END:VCALENDAR