BEGIN:VCALENDAR
VERSION:2.0
PRODID:-//Plone.org//NONSGML plone.app.event//EN
X-WR-TIMEZONE:Europe/Madrid
BEGIN:VEVENT
SUMMARY:"Si la llengua falla, fallarà tot" conferència a càrrec del President Quim Torra
DTSTART;TZID=Europe/Madrid;VALUE=DATE-TIME:20241011T183000
DTEND;TZID=Europe/Madrid;VALUE=DATE-TIME:20241011T193000
DTSTAMP;VALUE=DATE-TIME:20260422T100921Z
UID:c722d5d8cb3c7767f855556b52030156
CREATED;VALUE=DATE-TIME:20241011T000000Z
CATEGORIES:Conferència,Cultura
LOCATION:Sala Bernat Martorell de Can Ramis - Plaça de la Vila, 25
ORGANIZER:Assemblea Nacional Catalana, Consell Local de la Republica, Òmnium Baix Monseny
COMMENT:Durada: 1h
URL:https://www.santceloni.cat/document.php?id=32762
END:VEVENT
END:VCALENDAR