BEGIN:VCALENDAR
VERSION:2.0
PRODID:-//Plone.org//NONSGML plone.app.event//EN
X-WR-TIMEZONE:Europe/Madrid
BEGIN:VEVENT
SUMMARY:Botifarrada a la Hispanitat organitzada per l'ANC, Consell Local de la República i Òmnium Baix Montseny
DTSTART;TZID=Europe/Madrid;VALUE=DATE-TIME:20241011T200000
DTEND;TZID=Europe/Madrid;VALUE=DATE-TIME:20241011T210000
DTSTAMP;VALUE=DATE-TIME:20260423T025310Z
UID:e6b5f40b6e7d2a3288f6a18d041899b0
CREATED;VALUE=DATE-TIME:20241011T000000Z
CATEGORIES:Festa
LOCATION:Plaça de la Vila - Plaça de la Vila
ORGANIZER:Assemblea Nacional Catalana, Consell  Local de la República Sant Celoni i la Batllòria, Òmnium Baix Montseny
COMMENT:Preu: Entrepà de botifarra i beguda donatiu 5 &euro;
Durada: De les 20 h a les 23 h
URL:https://www.santceloni.cat/document.php?id=32788
END:VEVENT
END:VCALENDAR