BEGIN:VCALENDAR
VERSION:2.0
PRODID:-//Plone.org//NONSGML plone.app.event//EN
X-WR-TIMEZONE:Europe/Madrid
BEGIN:VEVENT
SUMMARY:Cap de setmana solidari contra el Càncer de Mama: actuacions de cultura popular, botifarrada, música...
DTSTART;TZID=Europe/Madrid;VALUE=DATE-TIME:20241019T100000
DTEND;TZID=Europe/Madrid;VALUE=DATE-TIME:20241019T110000
DTSTAMP;VALUE=DATE-TIME:20260422T161009Z
UID:9ca095022f7bcab9e748b97e2edba696
CREATED;VALUE=DATE-TIME:20241019T000000Z
CATEGORIES:Festa,Solidaritat
LOCATION:Plaça de la Vila - Plaça de la Vila
ORGANIZER:aecc
COMMENT:Durada: dissabte matí, tarda i vespre i diumenge matí
URL:https://www.santceloni.cat/document.php?id=32789
END:VEVENT
END:VCALENDAR