BEGIN:VCALENDAR
VERSION:2.0
PRODID:-//Plone.org//NONSGML plone.app.event//EN
X-WR-TIMEZONE:Europe/Madrid
BEGIN:VEVENT
SUMMARY:Cap de Setmana Medieval del Club Arc Sant Celoni. Recreació d'un campament medieval
DTSTART;TZID=Europe/Madrid;VALUE=DATE-TIME:20241013T100000
DTEND;TZID=Europe/Madrid;VALUE=DATE-TIME:20241013T110000
DTSTAMP;VALUE=DATE-TIME:20260422T143844Z
UID:edf53219910c7e85d8d83e8961fd8e9c
CREATED;VALUE=DATE-TIME:20241012T000000Z
CATEGORIES:Entitats,Esports
LOCATION:Camp Club Arc Sant Celoni. Carrer Institut s/n
ORGANIZER:Club Arc Sant Celoni
COMMENT:Preu: Gratuït
DESCRIPTION:MedievArc Sant Celoni
URL:https://www.santceloni.cat/document.php?id=32794
END:VEVENT
END:VCALENDAR