BEGIN:VCALENDAR
VERSION:2.0
PRODID:-//Plone.org//NONSGML plone.app.event//EN
X-WR-TIMEZONE:Europe/Madrid
BEGIN:VEVENT
SUMMARY:Cursos d'Alpinisme.
DTSTART;TZID=Europe/Madrid;VALUE=DATE-TIME:20241109T000000
DTEND;TZID=Europe/Madrid;VALUE=DATE-TIME:20241109T010000
DTSTAMP;VALUE=DATE-TIME:20260422T115603Z
UID:e8d18e4182fe533c35a98581125cef49
CREATED;VALUE=DATE-TIME:20241109T000000Z
CATEGORIES:Cursos
LOCATION:A determinar
ORGANIZER:Club Excursionista Palautordera - Centre Excursionista Sant Celoni
COMMENT:Preu: 100 &euro;
DESCRIPTION:Curs Escalada en Roca nivell 1
URL:https://www.santceloni.cat/document.php?id=32826
END:VEVENT
END:VCALENDAR