BEGIN:VCALENDAR
VERSION:2.0
PRODID:-//Plone.org//NONSGML plone.app.event//EN
X-WR-TIMEZONE:Europe/Madrid
BEGIN:VEVENT
SUMMARY:Curs d'alpinisme del CESC: Clínic Muntatge i gestió de reunions en escalada
DTSTART;TZID=Europe/Madrid;VALUE=DATE-TIME:20241214T070000
DTEND;TZID=Europe/Madrid;VALUE=DATE-TIME:20241214T080000
DTSTAMP;VALUE=DATE-TIME:20260422T162747Z
UID:55303226a2f72a2cb260ecd47710677b
CREATED;VALUE=DATE-TIME:20241214T000000Z
CATEGORIES:Cursos
LOCATION:A determinar
ORGANIZER:Club Excursionista Palautordera - Centre Excursionista Sant Celoni
COMMENT:Preu: 30 &euro;
Durada: de 7 del matí a 8 del vespre
URL:https://www.santceloni.cat/document.php?id=32829
END:VEVENT
END:VCALENDAR