BEGIN:VCALENDAR
VERSION:2.0
PRODID:-//Plone.org//NONSGML plone.app.event//EN
X-WR-TIMEZONE:Europe/Madrid
BEGIN:VEVENT
SUMMARY:BiblioLab: Lego Spike Essential, a càrrec d'Edukem-nos PLACES EXHAURIDES
DTSTART;TZID=Europe/Madrid;VALUE=DATE-TIME:20241108T173000
DTEND;TZID=Europe/Madrid;VALUE=DATE-TIME:20241108T183000
DTSTAMP;VALUE=DATE-TIME:20260422T143759Z
UID:6a9ce3c285027f69ace4f4d648ddf5ff
CREATED;VALUE=DATE-TIME:20241108T000000Z
CATEGORIES:Biblioteca Taller
LOCATION:Biblioteca l'Escorxador - Pg. de la Rectoria Vella, 10
ORGANIZER:Biblioteca l'Escorxador
COMMENT:Preu: Gratuït
Durada: 2 hores
DESCRIPTION:Per a infants de 6 a 8 anys (acompanyats d'un adult)
URL:https://www.santceloni.cat/document.php?id=32840
END:VEVENT
END:VCALENDAR