BEGIN:VCALENDAR
VERSION:2.0
PRODID:-//Plone.org//NONSGML plone.app.event//EN
X-WR-TIMEZONE:Europe/Madrid
BEGIN:VEVENT
SUMMARY:Posa't les vambes: II Caminada contra el càncer organitzada per Juntes
DTSTART;TZID=Europe/Madrid;VALUE=DATE-TIME:20241020T090000
DTEND;TZID=Europe/Madrid;VALUE=DATE-TIME:20241020T100000
DTSTAMP;VALUE=DATE-TIME:20260422T132014Z
UID:91256b99ab257c8081e24a4c97883937
CREATED;VALUE=DATE-TIME:20241020T000000Z
CATEGORIES:Solidaritat
LOCATION:Rectoria Vella - Parc de la Rectoria Vella, s/n
ORGANIZER:Juntes Sant Celoni i La Batllòria
COMMENT:Preu: 7 
Durada: de 9 a 12 h aprox.
DESCRIPTION:Organitzada per Juntes a benefici de l'AECC
URL:https://www.santceloni.cat/document.php?id=32847
END:VEVENT
END:VCALENDAR