BEGIN:VCALENDAR
VERSION:2.0
PRODID:-//Plone.org//NONSGML plone.app.event//EN
X-WR-TIMEZONE:Europe/Madrid
BEGIN:VEVENT
SUMMARY:Cinema en català: Kung Fu Panda 4 a les sales Ocine amb preu únic de 4,90 &euro; 
DTSTART;TZID=Europe/Madrid;VALUE=DATE-TIME:20241026T160000
DTEND;TZID=Europe/Madrid;VALUE=DATE-TIME:20241026T170000
DTSTAMP;VALUE=DATE-TIME:20260421T182748Z
UID:d52c9cf162f029195a8ffdb4f444cc12
CREATED;VALUE=DATE-TIME:20241026T000000Z
CATEGORIES:Cinema,Infantils
LOCATION:Sales Ocine del Centre Comercial Altrium - Ctra. C-35 (Porta de ponent)
ORGANIZER:Oficina de Català de Sant Celoni
COMMENT:Preu: 4,90 
DESCRIPTION:Programació CINC-Cinema Infantil en Català
URL:https://www.santceloni.cat/document.php?id=32854
END:VEVENT
END:VCALENDAR