BEGIN:VCALENDAR
VERSION:2.0
PRODID:-//Plone.org//NONSGML plone.app.event//EN
X-WR-TIMEZONE:Europe/Madrid
BEGIN:VEVENT
SUMMARY:Actes de dissabte 9 de novembre - Festes de Sant Martí 2024
DTSTART;TZID=Europe/Madrid;VALUE=DATE-TIME:20241109T000000
DTEND;TZID=Europe/Madrid;VALUE=DATE-TIME:20241109T010000
DTSTAMP;VALUE=DATE-TIME:20260422T175145Z
UID:4ee2783a9f11b786c3793f7c5f4de6f3
CREATED;VALUE=DATE-TIME:20241109T000000Z
CATEGORIES:Cultura,Festa
COMMENT:Durada: Tot el dia
URL:https://www.santceloni.cat/document.php?id=32867
END:VEVENT
END:VCALENDAR