BEGIN:VCALENDAR
VERSION:2.0
PRODID:-//Plone.org//NONSGML plone.app.event//EN
X-WR-TIMEZONE:Europe/Madrid
BEGIN:VEVENT
SUMMARY:Actes de diumenge 10 de novembre - Festes de Sant Martí 2024
DTSTART;TZID=Europe/Madrid;VALUE=DATE-TIME:20241110T000000
DTEND;TZID=Europe/Madrid;VALUE=DATE-TIME:20241110T010000
DTSTAMP;VALUE=DATE-TIME:20260422T113409Z
UID:f62715a21a5cb22c69fe6570da982d8a
CREATED;VALUE=DATE-TIME:20241110T000000Z
CATEGORIES:Cultura,Festa
COMMENT:Durada: Tot el dia
URL:https://www.santceloni.cat/document.php?id=32868
END:VEVENT
END:VCALENDAR