BEGIN:VCALENDAR
VERSION:2.0
PRODID:-//Plone.org//NONSGML plone.app.event//EN
X-WR-TIMEZONE:Europe/Madrid
BEGIN:VEVENT
SUMMARY:Teatre: La llum s'apaga amb Trocateatre a la Unió Batllorienca
DTSTART;TZID=Europe/Madrid;VALUE=DATE-TIME:20241020T180000
DTEND;TZID=Europe/Madrid;VALUE=DATE-TIME:20241020T190000
DTSTAMP;VALUE=DATE-TIME:20260422T175054Z
UID:1c2b571ded964ddc61f158d407e69c28
CREATED;VALUE=DATE-TIME:20241020T000000Z
CATEGORIES:Cultura
LOCATION:Unió Batllorienca - c. Breda, 2
COMMENT:Preu: 10 
Durada: 1 h
DESCRIPTION:Una comèdia escrita per Xavier del Rio sota la direcció de Pep Tarragó
URL:https://www.santceloni.cat/document.php?id=32872
END:VEVENT
END:VCALENDAR