BEGIN:VCALENDAR
VERSION:2.0
PRODID:-//Plone.org//NONSGML plone.app.event//EN
X-WR-TIMEZONE:Europe/Madrid
BEGIN:VEVENT
SUMMARY:Visita del Patge Reial a la Batllòria
DTSTART;TZID=Europe/Madrid;VALUE=DATE-TIME:20241230T180000
DTEND;TZID=Europe/Madrid;VALUE=DATE-TIME:20241230T190000
DTSTAMP;VALUE=DATE-TIME:20260422T115520Z
UID:3f5c5b8354b696c06ea50dd86bf8914b
CREATED;VALUE=DATE-TIME:20241230T000000Z
CATEGORIES:Festa,Infantils
LOCATION:Can Bruguera - Major, 19-21 (La Batllòria)
COMMENT:Durada: De 18 a 20 h
DESCRIPTION:Festes de Nadal, Cap d'Any i Reis a la Batllòria
URL:https://www.santceloni.cat/document.php?id=33070
END:VEVENT
END:VCALENDAR