BEGIN:VCALENDAR
VERSION:2.0
PRODID:-//Plone.org//NONSGML plone.app.event//EN
X-WR-TIMEZONE:Europe/Madrid
BEGIN:VEVENT
SUMMARY:Arribada dels Carters Reials a Sant Celoni
DTSTART;TZID=Europe/Madrid;VALUE=DATE-TIME:20250102T163000
DTEND;TZID=Europe/Madrid;VALUE=DATE-TIME:20250102T173000
DTSTAMP;VALUE=DATE-TIME:20260422T054159Z
UID:903c9c17e40c2d34c869324482a024cc
CREATED;VALUE=DATE-TIME:20250102T000000Z
LOCATION:Plaça de la Vila - Plaça de la Vila
URL:https://www.santceloni.cat/document.php?id=33073
END:VEVENT
END:VCALENDAR