BEGIN:VCALENDAR
VERSION:2.0
PRODID:-//Plone.org//NONSGML plone.app.event//EN
X-WR-TIMEZONE:Europe/Madrid
BEGIN:VEVENT
SUMMARY:Campanya de recollida de joguines al Centre Municipal d'esports Sot de les Granotes
DTSTART;TZID=Europe/Madrid;VALUE=DATE-TIME:20241202T000000
DTEND;TZID=Europe/Madrid;VALUE=DATE-TIME:20241202T010000
DTSTAMP;VALUE=DATE-TIME:20260422T201943Z
UID:18446834780dd661204b2e0b068a03d5
CREATED;VALUE=DATE-TIME:20241202T000000Z
CATEGORIES:Esports
LOCATION:Centre Municipal d'Esports Sot de les Granotes - Francesc Macià, 15
ORGANIZER:Equip del SOT de les Granotes
COMMENT:Durada: De l'1 al 22 de desembre
DESCRIPTION:Nadal al SOT
URL:https://www.santceloni.cat/document.php?id=33121
END:VEVENT
END:VCALENDAR