BEGIN:VCALENDAR
VERSION:2.0
PRODID:-//Plone.org//NONSGML plone.app.event//EN
X-WR-TIMEZONE:Europe/Madrid
BEGIN:VEVENT
SUMMARY:Teatre Ateneu: ¿Quieres pecar conmigo? de Borja Rabanal organitzat pel Bar del Teatre
DTSTART;TZID=Europe/Madrid;VALUE=DATE-TIME:20250208T203000
DTEND;TZID=Europe/Madrid;VALUE=DATE-TIME:20250208T213000
DTSTAMP;VALUE=DATE-TIME:20260422T201929Z
UID:c2c6f6b41eb356f9abb93c89564fec10
CREATED;VALUE=DATE-TIME:20250208T000000Z
CATEGORIES:Teatre
LOCATION:Teatre Ateneu, Sala Gran - Germà Emilià, s/n
ORGANIZER:Bar del Teatre Ateneu
COMMENT:Preu: 19 
Durada: 90 minuts
DESCRIPTION:Programació Teatre Ateneu
URL:https://www.santceloni.cat/document.php?id=33164
END:VEVENT
END:VCALENDAR