BEGIN:VCALENDAR
VERSION:2.0
PRODID:-//Plone.org//NONSGML plone.app.event//EN
X-WR-TIMEZONE:Europe/Madrid
BEGIN:VEVENT
SUMMARY:Teatre Ateneu: Gala de final de curs de l'escola de dansa Esther Cortés
DTSTART;TZID=Europe/Madrid;VALUE=DATE-TIME:20250621T180000
DTEND;TZID=Europe/Madrid;VALUE=DATE-TIME:20250621T190000
DTSTAMP;VALUE=DATE-TIME:20260421T163530Z
UID:33f92bee4477d8e1786f2f2b90864196
CREATED;VALUE=DATE-TIME:20250621T000000Z
CATEGORIES:Dansa
LOCATION:Teatre Ateneu, Sala Gran - Germà Emilià, s/n
ORGANIZER:Escola de Dansa Esther Cortés
COMMENT:Preu: 10  adults, 8  per jubilats i nens de 4 a 8 anys
DESCRIPTION:Programació Teatre Ateneu
URL:https://www.santceloni.cat/document.php?id=33201
END:VEVENT
END:VCALENDAR