BEGIN:VCALENDAR
VERSION:2.0
PRODID:-//Plone.org//NONSGML plone.app.event//EN
X-WR-TIMEZONE:Europe/Madrid
BEGIN:VEVENT
SUMMARY:El CineFòrum de laFilmo amb el film M dirigida per Fritz Lang
DTSTART;TZID=Europe/Madrid;VALUE=DATE-TIME:20250112T180000
DTEND;TZID=Europe/Madrid;VALUE=DATE-TIME:20250112T190000
DTSTAMP;VALUE=DATE-TIME:20260422T030328Z
UID:d06bc60351593b8e28cf9cc6fcd7c535
CREATED;VALUE=DATE-TIME:20250112T000000Z
CATEGORIES:Cinema,Conferència
LOCATION:Sala Bernat Martorell de Can Ramis - Pl. de la Vila, 25
ORGANIZER:laFilmo del Baix Montseny
COMMENT:Preu: Entrada lliure
Durada: 2 hores aprox
DESCRIPTION:Minicicle: Linxament
URL:https://www.santceloni.cat/document.php?id=33261
END:VEVENT
END:VCALENDAR