BEGIN:VCALENDAR
VERSION:2.0
PRODID:-//Plone.org//NONSGML plone.app.event//EN
X-WR-TIMEZONE:Europe/Madrid
BEGIN:VEVENT
SUMMARY:Mercat de la Ganga d'hivern al carrer Anselm Clavé
DTSTART;TZID=Europe/Madrid;VALUE=DATE-TIME:20250111T090000
DTEND;TZID=Europe/Madrid;VALUE=DATE-TIME:20250111T100000
DTSTAMP;VALUE=DATE-TIME:20260422T145414Z
UID:bce59c9cbb692fe5d0f62caead7d0b69
CREATED;VALUE=DATE-TIME:20250111T000000Z
CATEGORIES:Comerç,Mostra
LOCATION:c. Anselm Clavé - c. Anselm Clavé
ORGANIZER:Associació de Veïns i Comerciants Anselm Clavé Centre
COMMENT:Durada: De 9 a 13.30 i de 17 a 20.30 h
DESCRIPTION:Mercat d'ocasió al carrer Anselm Clavé
URL:https://www.santceloni.cat/document.php?id=33266
END:VEVENT
END:VCALENDAR