BEGIN:VCALENDAR
VERSION:2.0
PRODID:-//Plone.org//NONSGML plone.app.event//EN
X-WR-TIMEZONE:Europe/Madrid
BEGIN:VEVENT
SUMMARY:Tatua't la vida, dona sang! Amb la col·laboració de l'alumnat del PTT de Sant Celoni
DTSTART;TZID=Europe/Madrid;VALUE=DATE-TIME:20250124T100000
DTEND;TZID=Europe/Madrid;VALUE=DATE-TIME:20250124T110000
DTSTAMP;VALUE=DATE-TIME:20260422T172856Z
UID:20d0bb75c66d58fb57b4867d30608fa8
CREATED;VALUE=DATE-TIME:20250124T000000Z
CATEGORIES:Salut,Solidaritat
LOCATION:Can Ramis - Pl. de la Vila, 25
ORGANIZER:Donants de Sang del Vallès Oriental
COMMENT:Durada: De 10 a 14 i de 17 a 21 h
URL:https://www.santceloni.cat/document.php?id=33304
END:VEVENT
END:VCALENDAR