BEGIN:VCALENDAR
VERSION:2.0
PRODID:-//Plone.org//NONSGML plone.app.event//EN
X-WR-TIMEZONE:Europe/Madrid
BEGIN:VEVENT
SUMMARY:CineFòrum de laFilmo amb la projecció del film Rashomon, dirigida per Akira Kurosawa
DTSTART;TZID=Europe/Madrid;VALUE=DATE-TIME:20250209T180000
DTEND;TZID=Europe/Madrid;VALUE=DATE-TIME:20250209T190000
DTSTAMP;VALUE=DATE-TIME:20260422T160309Z
UID:995da0e7f2e26a2b040452ace3ae1662
CREATED;VALUE=DATE-TIME:20250209T000000Z
CATEGORIES:Cinema,Cultura
LOCATION:Sala Bernat Martorell de Can Ramis - Pl. de la Vila, 25
ORGANIZER:laFilmo del Baix Montseny
COMMENT:Preu: Entrada lliure
Durada: 2,5 hores aprox
DESCRIPTION:Minicicle: Percepcions
URL:https://www.santceloni.cat/document.php?id=33373
END:VEVENT
END:VCALENDAR