BEGIN:VCALENDAR
VERSION:2.0
PRODID:-//Plone.org//NONSGML plone.app.event//EN
X-WR-TIMEZONE:Europe/Madrid
BEGIN:VEVENT
SUMMARY:Nit de lletres
DTSTART;TZID=Europe/Madrid;VALUE=DATE-TIME:20080919T210000
DTEND;TZID=Europe/Madrid;VALUE=DATE-TIME:20080919T220000
DTSTAMP;VALUE=DATE-TIME:20260422T113439Z
UID:f8b1bd518a1338964414d4ecd2d998e1
CREATED;VALUE=DATE-TIME:20080919T000000Z
CATEGORIES:Literatura
LOCATION:Hotel Suís
ORGANIZER:Biblioteca l'Escorxador
DESCRIPTION:Tertúlia literària sobre Todos los fuegos, fuego de Julio Cortázar
URL:https://www.santceloni.cat/document.php?id=3351
END:VEVENT
END:VCALENDAR