BEGIN:VCALENDAR
VERSION:2.0
PRODID:-//Plone.org//NONSGML plone.app.event//EN
X-WR-TIMEZONE:Europe/Madrid
BEGIN:VEVENT
SUMMARY:Campionat social d'atletisme organitzat pel Club Atletisme Baix Montseny
DTSTART;TZID=Europe/Madrid;VALUE=DATE-TIME:20250614T090000
DTEND;TZID=Europe/Madrid;VALUE=DATE-TIME:20250614T100000
DTSTAMP;VALUE=DATE-TIME:20260421T173050Z
UID:294185b8643cb2993dd9d2d4ba95e84e
CREATED;VALUE=DATE-TIME:20250614T000000Z
CATEGORIES:Esports
LOCATION:Pista municipal d'atletisme - Ctra. Campins, km. 1
ORGANIZER:Club Atletisme Baix Montseny
COMMENT:Preu: Gratuït
URL:https://www.santceloni.cat/document.php?id=33806
END:VEVENT
END:VCALENDAR