BEGIN:VCALENDAR
VERSION:2.0
PRODID:-//Plone.org//NONSGML plone.app.event//EN
X-WR-TIMEZONE:Europe/Madrid
BEGIN:VEVENT
SUMMARY:Parlem de: Què aporta la natura a infants i joves?, amb Vicky Mateu
DTSTART;TZID=Europe/Madrid;VALUE=DATE-TIME:20250522T183000
DTEND;TZID=Europe/Madrid;VALUE=DATE-TIME:20250522T193000
DTSTAMP;VALUE=DATE-TIME:20260421T184346Z
UID:5f695bc0a32ad7e9c377764e08658d7d
CREATED;VALUE=DATE-TIME:20250522T000000Z
CATEGORIES:Biblioteca Conferència,Bosc,Cultura,Natura
LOCATION:Biblioteca l'Escorxador - Pg. de la Rectoria Vella, 10
ORGANIZER:Biblioteca l'Escorxador
COMMENT:Preu: Gratuït
DESCRIPTION:Xerrada Setmana de la Natura
URL:https://www.santceloni.cat/document.php?id=33828
END:VEVENT
END:VCALENDAR