BEGIN:VCALENDAR
VERSION:2.0
PRODID:-//Plone.org//NONSGML plone.app.event//EN
X-WR-TIMEZONE:Europe/Madrid
BEGIN:VEVENT
SUMMARY:Activitats del CESC 100 CIMS: Trobada dels 100 Cims 2025 FEEC
DTSTART;TZID=Europe/Madrid;VALUE=DATE-TIME:20250524T073000
DTEND;TZID=Europe/Madrid;VALUE=DATE-TIME:20250524T083000
DTSTAMP;VALUE=DATE-TIME:20260421T133208Z
UID:8047b8f1f8b4147550c517fcead06aa7
CREATED;VALUE=DATE-TIME:20250524T000000Z
CATEGORIES:Esports,Natura
LOCATION:A determinar
ORGANIZER:La FEEC i el Club Excursionista Esparreguera
URL:https://www.santceloni.cat/document.php?id=33941
END:VEVENT
END:VCALENDAR