BEGIN:VCALENDAR
VERSION:2.0
PRODID:-//Plone.org//NONSGML plone.app.event//EN
X-WR-TIMEZONE:Europe/Madrid
BEGIN:VEVENT
SUMMARY:Ritmiks - Festival Joves Músics Europeus
DTSTART;TZID=Europe/Madrid;VALUE=DATE-TIME:20250531T000000
DTEND;TZID=Europe/Madrid;VALUE=DATE-TIME:20250531T010000
DTSTAMP;VALUE=DATE-TIME:20260423T093631Z
UID:d6568827d2b260d16567f5ec67019ac2
CREATED;VALUE=DATE-TIME:20250531T000000Z
CATEGORIES:Cultura,Educació,Música
LOCATION:Plaça de la Vila - Plaça de la Vila
ORGANIZER:Escola municipal de música i teatre de Sant Celoni i acem (Associació Catalana d'Escoles de Música i Dansa)
COMMENT:Preu: Gratuït
Durada: 120 minuts
DESCRIPTION:Ritmiks - Festival Joves Músics Europeus
URL:https://www.santceloni.cat/document.php?id=33957
END:VEVENT
END:VCALENDAR