BEGIN:VCALENDAR
VERSION:2.0
PRODID:-//Plone.org//NONSGML plone.app.event//EN
X-WR-TIMEZONE:Europe/Madrid
BEGIN:VEVENT
SUMMARY:Sopar amb gust a Sabina al bar del Teatre Ateneu
DTSTART;TZID=Europe/Madrid;VALUE=DATE-TIME:20250509T203000
DTEND;TZID=Europe/Madrid;VALUE=DATE-TIME:20250509T213000
DTSTAMP;VALUE=DATE-TIME:20260421T173909Z
UID:f9331a4628a598ae3c887fa1fe5451c9
CREATED;VALUE=DATE-TIME:20250509T000000Z
CATEGORIES:Música
LOCATION:Bar del Teatre Ateneu - Ctra. Vella, 25
ORGANIZER:Bar Teatre Ateneu
COMMENT:Durada: 120 min
DESCRIPTION:Un petit tribut a Sabina
URL:https://www.santceloni.cat/document.php?id=33961
END:VEVENT
END:VCALENDAR