BEGIN:VCALENDAR
VERSION:2.0
PRODID:-//Plone.org//NONSGML plone.app.event//EN
X-WR-TIMEZONE:Europe/Madrid
BEGIN:VEVENT
SUMMARY:Sessió informativa sobre el nou model de recollida de residus de Sant Celoni a les 10 h al Teatre Ateneu
DTSTART;TZID=Europe/Madrid;VALUE=DATE-TIME:20250523T000000
DTEND;TZID=Europe/Madrid;VALUE=DATE-TIME:20250523T010000
DTSTAMP;VALUE=DATE-TIME:20260422T043522Z
UID:a2736ecc1d039b70c8534ba2aeacd6f6
CREATED;VALUE=DATE-TIME:20250523T000000Z
CATEGORIES:Residus
LOCATION:Teatre Ateneu, Sala Gran - Germà Emilià, s/n
ORGANIZER:Ajuntament de Sant Celoni
URL:https://www.santceloni.cat/document.php?id=33983
END:VEVENT
END:VCALENDAR