BEGIN:VCALENDAR
VERSION:2.0
PRODID:-//Plone.org//NONSGML plone.app.event//EN
X-WR-TIMEZONE:Europe/Madrid
BEGIN:VEVENT
SUMMARY:Sessió informativa sobre el nou model de recollida de residus de Sant Celoni a les 10 h i a les 18 h al local social de Boscos del Montnegre
DTSTART;TZID=Europe/Madrid;VALUE=DATE-TIME:20250528T000000
DTEND;TZID=Europe/Madrid;VALUE=DATE-TIME:20250528T010000
DTSTAMP;VALUE=DATE-TIME:20260423T073426Z
UID:c7ce18581015e58f268b89f0d09ab052
CREATED;VALUE=DATE-TIME:20250528T000000Z
CATEGORIES:Residus
LOCATION:Local social de Boscos del Montnegre - Plaça Font de Santa Laura, 60
ORGANIZER:Ajuntament de Sant Celoni
URL:https://www.santceloni.cat/document.php?id=33985
END:VEVENT
END:VCALENDAR