BEGIN:VCALENDAR
VERSION:2.0
PRODID:-//Plone.org//NONSGML plone.app.event//EN
X-WR-TIMEZONE:Europe/Madrid
BEGIN:VEVENT
SUMMARY:Ballada de Sardanes a la plaça 1 d'Octubre organitzada per l'Esplai de la Gent Gran
DTSTART;TZID=Europe/Madrid;VALUE=DATE-TIME:20250711T183000
DTEND;TZID=Europe/Madrid;VALUE=DATE-TIME:20250711T193000
DTSTAMP;VALUE=DATE-TIME:20260421T202430Z
UID:96438175ae6f87cffe52dbaf625878c9
CREATED;VALUE=DATE-TIME:20250711T000000Z
CATEGORIES:Dansa
LOCATION:Plaça 1 d'Octubre - Plaça 1 d'Octubre
ORGANIZER:Esplai de la Gent Gran de Sant Celoni
DESCRIPTION:Tots els divendres del mes de juliol
URL:https://www.santceloni.cat/document.php?id=34030
END:VEVENT
END:VCALENDAR