BEGIN:VCALENDAR
VERSION:2.0
PRODID:-//Plone.org//NONSGML plone.app.event//EN
X-WR-TIMEZONE:Europe/Madrid
BEGIN:VEVENT
SUMMARY:Fi de festa de Finestres Otaku Art, amb DJ Van, danses K-pop, joc de rol, photocall i tallers manga i anime
DTSTART;TZID=Europe/Madrid;VALUE=DATE-TIME:20250608T093000
DTEND;TZID=Europe/Madrid;VALUE=DATE-TIME:20250608T103000
DTSTAMP;VALUE=DATE-TIME:20260424T064235Z
UID:c54a11210c885433b8954bc040e8d521
CREATED;VALUE=DATE-TIME:20250608T000000Z
CATEGORIES:Comerç,Festa
LOCATION:Plaça de la Vila - Plaça de la Vila
ORGANIZER:Comerciants de Sant Celoni
COMMENT:Durada: De 9.30 a 14 h
DESCRIPTION:5a edició Art i Comerç
URL:https://www.santceloni.cat/document.php?id=34062
END:VEVENT
END:VCALENDAR