BEGIN:VCALENDAR
VERSION:2.0
PRODID:-//Plone.org//NONSGML plone.app.event//EN
X-WR-TIMEZONE:Europe/Madrid
BEGIN:VEVENT
SUMMARY:Activitats del CESC Muntanya: sortida al Pic de Nérassol
DTSTART;TZID=Europe/Madrid;VALUE=DATE-TIME:20250628T000000
DTEND;TZID=Europe/Madrid;VALUE=DATE-TIME:20250628T010000
DTSTAMP;VALUE=DATE-TIME:20260422T190911Z
UID:a20da2b65d9f131fe38a46f36631cd57
CREATED;VALUE=DATE-TIME:20250628T000000Z
CATEGORIES:Esports,Natura
LOCATION:Lloc i hora a determinar
ORGANIZER:Centre Excursionista de Sant Celoni
URL:https://www.santceloni.cat/document.php?id=34172
END:VEVENT
END:VCALENDAR