BEGIN:VCALENDAR
VERSION:2.0
PRODID:-//Plone.org//NONSGML plone.app.event//EN
X-WR-TIMEZONE:Europe/Madrid
BEGIN:VEVENT
SUMMARY:Bona Gent de Quim Masferrer amb 2 sessions al Teatre Ateneu
DTSTART;TZID=Europe/Madrid;VALUE=DATE-TIME:20251108T190000
DTEND;TZID=Europe/Madrid;VALUE=DATE-TIME:20251108T200000
DTSTAMP;VALUE=DATE-TIME:20260422T043716Z
UID:378485f9ce1ad8348f008964da2d9fb9
CREATED;VALUE=DATE-TIME:20251108T000000Z
CATEGORIES:Teatre
LOCATION:Teatre Ateneu, Sala Gran - Germà Emilià, s/n
ORGANIZER:Guerrilla Produccions
COMMENT:Preu: 22,80  general i 20,73  els joves menors de 25 anys
DESCRIPTION:Programació Teatre Ateneu
URL:https://www.santceloni.cat/document.php?id=34298
END:VEVENT
END:VCALENDAR